BEGIN:VCALENDAR
PRODID:-//MatrixMaxx//RemoteApi//EN
VERSION:2.0
METHOD:PUBLISH
CALSCALE:GREGORIAN
X-ORIGINAL-URL:http://www.eric.org/forms/meeting/MeetingFormPublic/view?id=6602C000000F3
BEGIN:VEVENT
SUMMARY:8/2/17 - FocusOn Benefits Litigation Update Call
LAST-MODIFIED:20170802T180000Z
UID:ci_6602C000000F3@matrixgroup.net
CLASS:PUBLIC
CREATED:20170802T180000Z
DTSTAMP:20170802T180000Z
DTSTART:20170802T180000Z
X-FUNAMBOL-ALLDAY:1
LOCATION:
DESCRIPTION:For full info see http://www.eric.org/forms/meeting/MeetingFormPublic/view?id=6602C000000F3\n
DTEND:20170802T193000Z
URL:http://www.eric.org/forms/meeting/MeetingFormPublic/view?id=6602C000000F3
END:VEVENT
END:VCALENDAR